BEGIN:VCALENDAR
VERSION:2.0
PRODID:-//PYVOBJECT//NONSGML Version 0.9.9//EN
X-WR-TIMEZONE:Africa/Johannesburg
BEGIN:VTIMEZONE
TZID:Africa/Johannesburg
BEGIN:STANDARD
DTSTART:20000101T000000
RRULE:FREQ=YEARLY;BYMONTH=1
TZNAME:SAST
TZOFFSETFROM:+0200
TZOFFSETTO:+0200
END:STANDARD
END:VTIMEZONE
BEGIN:VEVENT
UID:20260423T225735Z - 68236@eos-content
DTSTART;TZID=Africa/Johannesburg:20260425T090000
DTEND;TZID=Africa/Johannesburg:20260425T130000
ATTENDEE:MAILTO:bonny.muringai@huntproperties.co.za
DESCRIPTION:https://www.huntproperties.co.za/results/residential/for-sale/b
 allito/springvale-country-estate/house/3089819/34-kingfisher-way/\n\nBy ap
 pointment only. Contact Kim on 073 146 1983\n\nBonny Muringai (0715338838)
DTSTAMP:20260423T225735Z
LOCATION:34 Kingfisher Way\, Springvale Country Estate\, Ballito
SUMMARY:Hunt Properties Show Day - RL5398
END:VEVENT
END:VCALENDAR
